BEGIN:VCALENDAR
VERSION:2.0
CALSCALE:GREGORIAN
PRODID:-//MyApp//Calendar 1.0//EN
BEGIN:VEVENT
METHOD:PUBLISH
UID:63759@regionalniportaly.cz
DTSTAMP:20260421T225156Z
DTSTART;VALUE=DATE:20260226
DTEND;VALUE=DATE:20260311
SUMMARY:Promítání Kina Hustopeče
DESCRIPTION:Aktuální promítání v hustopečském kině najdete vždy na webových stránkách.
LOCATION:Hustopeče
END:VEVENT
END:VCALENDAR