BEGIN:VCALENDAR
VERSION:2.0
CALSCALE:GREGORIAN
PRODID:-//MyApp//Calendar 1.0//EN
BEGIN:VEVENT
METHOD:PUBLISH
UID:62392@regionalniportaly.cz
DTSTAMP:20260421T224947Z
DTSTART;VALUE=DATE:20260214
DTEND;VALUE=DATE:20260215
SUMMARY:Valentýnský večer na kině
DESCRIPTION:Valentýn může být příležitostí ke společně strávenému večeru plnému pohody\, chutí a filmového zážitku. Zveme vás na Valentýnský večer na kině\, kde se po celý den ponese atmosféra ve znamení lásky a sdílení.\nPo celý den bude otevřena valentýnská kavárna\, laděná do romantické atmosféry při svíčkách. Těšit se můžete například na prkénko pro dva „Ve dvou [hír]“ nebo na léčivý drink Saint Maria – Single Edition\, určený nejen pro páry\, ale i pro všechny\, kteří si chtějí večer užít po svém.\nSoučástí programu bude také Zeď vzkazů\, kde můžete napsat vzkaz lásky a připnout jej na nástěnku\, a slosovatelné vstupenky o drobné dárky pro dva.\nVrchol večera přijde v 19.00\, kdy se bude promítat premiéra české komedie Když se zhasne s Petrou Hřebíčkovou a Tomášem Maštalířem.\nVstup do kinokavárny je zdarma\, vstupenky na film jsou k dispozici v předprodeji za 160 Kč na webu kina nebo v turistickém informačním centru.\nTěšíme se na společně strávený valentýnský večer.
LOCATION:Hustopeče
END:VEVENT
END:VCALENDAR