BEGIN:VCALENDAR
VERSION:2.0
CALSCALE:GREGORIAN
PRODID:-//MyApp//Calendar 1.0//EN
BEGIN:VEVENT
METHOD:PUBLISH
UID:62147@regionalniportaly.cz
DTSTAMP:20260421T225136Z
DTSTART;VALUE=DATE:20260328
DTEND;VALUE=DATE:20260329
SUMMARY:Florbalový bál No.1
DESCRIPTION:🎉 Pozvánka na oslavu 10 let klubu 🎉\n\nLetos slavíme 10 let od založení našeho klubu a chceme to oslavit společně s vámi.\n\n\nNečekejte klasický ples – nemusíte umět tancovat ani mít večerní šaty či oblek. Stačí přijít v pohodlné eleganci a s dobrou náladou.\n\nAkce je pro všechny\, kteří jsou součástí naší florbalové rodiny – hráče\, rodiče\, děti\, přátele klubu i sponzory a ostatni.\n\nPřijďte si s námi užít večer plný zábavy a oslavit 10 let společných zážitků.\nJe to taková malá odměna pro nás všechny. 💜
LOCATION:Hustopeče
END:VEVENT
END:VCALENDAR