BEGIN:VCALENDAR
VERSION:2.0
CALSCALE:GREGORIAN
PRODID:-//MyApp//Calendar 1.0//EN
BEGIN:VEVENT
METHOD:PUBLISH
UID:61432@regionalniportaly.cz
DTSTAMP:20260421T224959Z
DTSTART;VALUE=DATE:20260104
DTEND;VALUE=DATE:20260105
SUMMARY:Varhanní koncert
DESCRIPTION:Varhanní koncert se svíčkami novoročních přání.Pravoslav Březík je absolventem Konzervatoře P. J. Vejvanovského v Kroměříži a v současné době studuje na Hochschule für Musik und Darstellende Kunst ve Stuttgartu Koncertuje nejen sólově\, ale spolupracuje také s dalšími interprety\, pěveckými sbory a se zlínskou Filharmonií Bohuslava Martinů.\nTereza Šrámková vystudovala operní zpěv na Pražské konzervatoři. Dále studovala soukromě u pěvkyně Evy Radové a později u pedagožky Barbary Berens. \n \nVstupné 100\,- Kč v předprodeji\, na místě 150\,- Kč.
LOCATION:Hustopeče
END:VEVENT
END:VCALENDAR