BEGIN:VCALENDAR
VERSION:2.0
CALSCALE:GREGORIAN
PRODID:-//MyApp//Calendar 1.0//EN
BEGIN:VEVENT
METHOD:PUBLISH
UID:61431@regionalniportaly.cz
DTSTAMP:20260422T003935Z
DTSTART;VALUE=DATE:20260118
DTEND;VALUE=DATE:20260119
SUMMARY:Vyprodáno: Novoroční koncert
DESCRIPTION:Novoroční muzikálový koncert v podání sólistů Městského divadla Brno.\nÚčinkují: Lucie Bergerová\, Andrea Zelová\, Libor Matouš a Robert Jícha.
LOCATION:Hustopeče
END:VEVENT
END:VCALENDAR