BEGIN:VCALENDAR
VERSION:2.0
CALSCALE:GREGORIAN
PRODID:-//MyApp//Calendar 1.0//EN
BEGIN:VEVENT
METHOD:PUBLISH
UID:61335@regionalniportaly.cz
DTSTAMP:20260421T233511Z
DTSTART;VALUE=DATE:20260124
DTEND;VALUE=DATE:20260125
SUMMARY:Kopanál Velké Němčice
DESCRIPTION:FOTBAL JE ŽIVOT\, FOTBAL JE VŠECHNO.To je část písně z představení Kopanál\, ale i životní filozofie dvou aktérů této inscenace.Je jedno\, jaké máš postavení\, vzdělání\, bohatství...Pro ně je fotbal víc\, než hra. Je to víra\, je to náboženství\, je to vášeň.Dva nesmiřitelní fanoušci nesmiřitelných klubů\, ale i kamarádi\, možná i rodinanám dají nahlédnout jak do svých duší\, tak i do hlubin nejen českého fotbalu.
LOCATION:Velké Němčice
END:VEVENT
END:VCALENDAR