BEGIN:VCALENDAR
VERSION:2.0
CALSCALE:GREGORIAN
PRODID:-//MyApp//Calendar 1.0//EN
BEGIN:VEVENT
METHOD:PUBLISH
UID:61311@regionalniportaly.cz
DTSTAMP:20260421T230939Z
DTSTART;VALUE=DATE:20260131
DTEND;VALUE=DATE:20260201
SUMMARY:Fotbalový ples FC Hustopeče
DESCRIPTION:Fotbalový klub&nbsp\;FC Hustopeče&nbsp\;Vás všechny i nefotbalisty zve na dalši&nbsp\;fotbalový ples. Věříme\, že se všichni potkáme v příjemné atmosféře v kulturním domě v Hustopečích. K dobré náladě Vám bude hrát skupina&nbsp\;Pool Litters&nbsp\;\, do rána poté DJ.&nbsp\;Včetně skvělé muziky se můžete těšit na dobré občerstvení\, dobré pití a skvělý zábavný program. Budeme rádi\, když budete součástí naší tradice\, kdy se potkáme tak nejen na hřišti\, ale ukážete i své taneční dovednosti.&nbsp\;Samozřejmostí je bohatá tombola.&nbsp\;
LOCATION:Hustopeče
END:VEVENT
END:VCALENDAR