BEGIN:VCALENDAR
VERSION:2.0
CALSCALE:GREGORIAN
PRODID:-//MyApp//Calendar 1.0//EN
BEGIN:VEVENT
METHOD:PUBLISH
UID:61287@regionalniportaly.cz
DTSTAMP:20260421T225215Z
DTSTART;VALUE=DATE:20260207
DTEND;VALUE=DATE:20260208
SUMMARY:Punk Floid Nikolčice
DESCRIPTION:Zavítá&nbsp\;k nám punk- rocková kapela PUNK FLOID\, která letos&nbsp\;oslaví&nbsp\;25 let na scéně a v okrese Břeclav a Hodoním zahraje poprvé.&nbsp\;K nim se připojí crossover - hardcore kapela Mr.Dynaboom\, která svou nakažlivou energie nenechá nikoho sedět.&nbsp\;&nbsp\;Vstupné na místě 300\,- a v předprodeji 260\,-&nbsp\;Dorazte v hojném počtu ať můžete být součástí skvělé show. V předprodeji jen 200ks vstupenek.
LOCATION:Nikolčice
END:VEVENT
END:VCALENDAR