BEGIN:VCALENDAR
VERSION:2.0
CALSCALE:GREGORIAN
PRODID:-//MyApp//Calendar 1.0//EN
BEGIN:VEVENT
METHOD:PUBLISH
UID:60915@regionalniportaly.cz
DTSTAMP:20260421T225040Z
DTSTART;VALUE=DATE:20260125
DTEND;VALUE=DATE:20260126
SUMMARY:Cestuji za kačku tour
DESCRIPTION:Kateřina Ostrá – cestovatelka\, autorka cestopisných knih a travel blogu CESTUJI ZA KAČKU\, vyráží na jedinečné turné\, během kterého vás vezme na besídku plnou dobrodružství\, smíchu a emotivních zážitků z cest. Čeká na vás nová a touto tour limitovaná travel besídka\, kterou jste dosud nikde neslyšeli\, během níž se mísí upřímné příběhy\, vtipné momenty i praktické tipy\, jak cestovat s minimálním budgetem a současně zažít milionové zážitky\, jak si poradit s jobovkami\, kterých je nejen náš život\, ale i každá cesta okořeněná a jak si každou cestu užít\, nikoliv přežít. Během 16 zastávek po celé ČR vám Kateřina ukáže svět tak\, jak ho zažila ona – bez přikrášlení\, na plný plyn\, se sklenicí vína po okraj plnou\, v růžových žabkách a s humorem jí vlastním. Kdo je Kateřina Ostrá? Matka\, čtyřiačtyřicítka\, neangličtinářka a cestovatelka\, která trajdá "kade tade". Současně i spisovatelka\, autorka osmi knih a dalších dvou na cestě. Je to ale především obyčejná ženská\, která sdílí své zážitky\, vychytávky\, chyby i přešlapy\, ale hlavně - detailně nachystané blbuvzdorné itineráře a postřehy ze svých cest se svou travel rodinou\, tedy s více než 150 tisíci sledujícími facebookové stránky CESTUJI ZA KAČKU.\nPořadatelem akce je BWT BOOKS ve spolupráci s městem Hustopeče.
LOCATION:Hustopeče
END:VEVENT
END:VCALENDAR