BEGIN:VCALENDAR
VERSION:2.0
CALSCALE:GREGORIAN
PRODID:-//MyApp//Calendar 1.0//EN
BEGIN:VEVENT
METHOD:PUBLISH
UID:60772@regionalniportaly.cz
DTSTAMP:20260421T231801Z
DTSTART;VALUE=DATE:20260328
DTEND;VALUE=DATE:20260329
SUMMARY:Jarní otevřené sklepy Strachotín 2026
DESCRIPTION:Navštivte malebnou sklepní uličku s nejkrásnějším výhledem na Pálavu!V ceně vstupného je konzumace degustačního množství vín u všech vinařů a kupóny v hodnotě 400 Kč pro nákup vína sebou. Ochutnávka vín přímo u vinařů. Sklepy budou otevřeny od 11.00 do 19.00 hod.
LOCATION:Strachotín
END:VEVENT
END:VCALENDAR