BEGIN:VCALENDAR
VERSION:2.0
CALSCALE:GREGORIAN
PRODID:-//MyApp//Calendar 1.0//EN
BEGIN:VEVENT
METHOD:PUBLISH
UID:60434@regionalniportaly.cz
DTSTAMP:20260421T230904Z
DTSTART;VALUE=DATE:20251228
DTEND;VALUE=DATE:20251229
SUMMARY:Předsilvestrovská 2025
DESCRIPTION:Předsilvestrovská bude i letos!Než vypukne silvestrovské šílenství\, přijďte si dát warm-up na večer plný hudby\, zábavy a dobré nálady. Ať už chcete tančit\, dát si drink s partou\, nebo jen nasát atmosféru\, sokolovna&nbsp\;28. prosince zkrátka ožije.Za pultem vás bude čekat&nbsp\;DJ BORIS®\, který propojí oldies s moderními hitovkami a bangers.&nbsp\;Čeká nás večer\, kdy pojede parket na plné obrátky.Těšit se můžete na dva bary\, speciální&nbsp\;drink bar s míchanými koktejly a fotokoutek\, kde zachytíte ty nejlepší momentky!Neděle 28. prosince 2025Sokolovna Klobouky u BrnaVstupné:– Předprodej: 150 Kč– Group Ticket (10 osob): 1300 Kč&nbsp\;zvýhodněný balíček pro tvou partuPřijďte si užít večer\, který odstartuje závěr roku tak\, jak má – stylově a s dobrou náladou!
LOCATION:Klobouky u Brna
END:VEVENT
END:VCALENDAR