BEGIN:VCALENDAR
VERSION:2.0
CALSCALE:GREGORIAN
PRODID:-//MyApp//Calendar 1.0//EN
BEGIN:VEVENT
METHOD:PUBLISH
UID:60352@regionalniportaly.cz
DTSTAMP:20260421T224937Z
DTSTART;VALUE=DATE:20260118
DTEND;VALUE=DATE:20260119
SUMMARY:Novoroční koncert
DESCRIPTION:Novoroční koncert v podání sólistů Městského divadla Brno:Libor MatoušRobert JíchaLucie BergerováAndrea ZelováTěšit se můžete na muzikálové\, světové a české hity !!!&nbsp\;
LOCATION:Hustopeče
END:VEVENT
END:VCALENDAR