BEGIN:VCALENDAR
VERSION:2.0
CALSCALE:GREGORIAN
PRODID:-//MyApp//Calendar 1.0//EN
BEGIN:VEVENT
METHOD:PUBLISH
UID:60262@regionalniportaly.cz
DTSTAMP:20260421T225009Z
DTSTART;VALUE=DATE:20260131
DTEND;VALUE=DATE:20260201
SUMMARY:Kurdějovský Okus Vín 2026
DESCRIPTION:20. ročník Kurdějovského Okusu Vín 2026. Srdečně vás zveme na tradiční Kurdějovský Okus Vín\, který se bude konat v sobotu 31.01.2025 od 11:00 hod. Přijďte si ochutnat ty nejlepší vína spolku Vinaři Apelace Kurdějov.
LOCATION:Kurdějov
END:VEVENT
END:VCALENDAR