BEGIN:VCALENDAR
VERSION:2.0
CALSCALE:GREGORIAN
PRODID:-//MyApp//Calendar 1.0//EN
BEGIN:VEVENT
METHOD:PUBLISH
UID:59669@regionalniportaly.cz
DTSTAMP:20260421T225100Z
DTSTART;VALUE=DATE:20260307
DTEND;VALUE=DATE:20260308
SUMMARY:Velryba Lízinka
DESCRIPTION:Všichni jste se aspoň jednou v životě zatoulali. Takže asi tušíte\, jaké to je\, ocitnout se v cizím prostředí a mezi cizími bytostmi. No a tak si možná dovedete představit\, jak se musí cítit hrdinka naší pohádky velryba Lízinka\, která se k nám do českých řek zatoulala až ze Severního moře. Jako vy jste asi hledali spřízněnou dušičku\, tak i ona marně hledá pomoc a kamaráda mezi rybami. Až potká u břehu stejně nešťastného osamoceného kluka malého rybáře Tomáše. A protože jejich kamarádství je opravdové\, dokáží spolu překonat nástrahy pana Volejníčka\, který chce Lízinku jen pro sebe a uvězní jí na své plovárně. Jak se podaří uniknout ze spárů pana Volejníčka a kdo jim bude pomáhat\, to uvidíte sami.\nÚčinkuje divadlo Krapet.
LOCATION:Hustopeče
END:VEVENT
END:VCALENDAR