BEGIN:VCALENDAR
VERSION:2.0
CALSCALE:GREGORIAN
PRODID:-//MyApp//Calendar 1.0//EN
BEGIN:VEVENT
METHOD:PUBLISH
UID:59666@regionalniportaly.cz
DTSTAMP:20260421T225050Z
DTSTART;VALUE=DATE:20260124
DTEND;VALUE=DATE:20260125
SUMMARY:Vyprodáno: Setkání harmonikářů
DESCRIPTION:V sobotu 24. ledna 2026 se od 15 hodin v hustopečském kinosále rozezní harmoniky. Naše pozvání přijalo několik skvělých harmonikářů z blízkého i vzdálenějšího okolí. Pokud máte rádi pěkné písničky za doprovodu těchto oblíbených hudebních nástrojů\, přijďte si s námi zazpívat. Budeme se na Vás moc těšit.\nProgramem bude provázet Miroslava Šubíková.\n \nV průběhu programu bude přestávka.
LOCATION:Hustopeče
END:VEVENT
END:VCALENDAR