BEGIN:VCALENDAR
VERSION:2.0
CALSCALE:GREGORIAN
PRODID:-//MyApp//Calendar 1.0//EN
BEGIN:VEVENT
METHOD:PUBLISH
UID:59629@regionalniportaly.cz
DTSTAMP:20260422T041508Z
DTSTART;VALUE=DATE:20251210
DTEND;VALUE=DATE:20251211
SUMMARY:Přepište dějiny Hustopeče!
DESCRIPTION:Podcast Přepište dějiny se vrací do Hustopeč!Hustopeče mezi hnědou a rudouZa války patřily Hustopeče do Říše. V roce 1946 zde vznikl jeden z největších hřbitovů vojáků Rudé armády u nás. Co se s místem a jeho okolím dělo v době přerodu mezi diktaturami a jak se velké dějiny podepsaly na místních osudech?Michal Stehlík a Martin Groman z podcastu Přepište dějiny se při svém už druhém vystoupení v Hustopečích podívají právě na zdejší poválečná léta.
LOCATION:Hustopeče
END:VEVENT
END:VCALENDAR