BEGIN:VCALENDAR
VERSION:2.0
CALSCALE:GREGORIAN
PRODID:-//MyApp//Calendar 1.0//EN
BEGIN:VEVENT
METHOD:PUBLISH
UID:59142@regionalniportaly.cz
DTSTAMP:20260422T004024Z
DTSTART;VALUE=DATE:20251119
DTEND;VALUE=DATE:20251120
SUMMARY:Lucie Kutrová: Arizona trail
DESCRIPTION:Vydejme se společně s Luckou Kutrovou na epickou 1300kilometrovou cestu po Arizona Trailu.Těšíme se na tebe v Hustopečích! Arizona Trail je jako divoký koktejl pouští\, lesů a hor\, kde vás může překvapit nejeden chlupatý problém – moje nohy\, medvěd nebo tarantule. Vyděsit by vás ale mohl i agresivní skunk\, skákající chřestýši nebo moje nálada po ránu. Dozvíte se\, proč je Arizona zemí extrémů\, co vás naučí několik týdnů jen s batohem\, minimem vody či sněhem po kolena.\nVydejme se společně na epickou 1300kilometrovou cestu po Arizona Trailu a několikadenní poznávání států Arizona a Utah\, kdy horký pouštní vzduch prověří nejen naše boty\, ale i naši trpělivost. Přežijeme spalující slunce\, ledové noci i chvíle krizí. Připravte se na příběh plný momentů\, kdy se budete smát nebo kroutit hlavou.
LOCATION:Hustopeče
END:VEVENT
END:VCALENDAR