BEGIN:VCALENDAR
VERSION:2.0
CALSCALE:GREGORIAN
PRODID:-//MyApp//Calendar 1.0//EN
BEGIN:VEVENT
METHOD:PUBLISH
UID:59141@regionalniportaly.cz
DTSTAMP:20260422T004428Z
DTSTART;VALUE=DATE:20251129
DTEND;VALUE=DATE:20251130
SUMMARY:Michalovi mazlíčci
DESCRIPTION:Michalovi mazlíčci aneb Když máš na opasku ještě dvě volné dírky za přezkou\, tak si nehraj na to\, že jsi dospělý.Michal si myslí\, že už je moc velký na to\, aby si hrál s dětmi\, ale jeho „plyšáci“\, největší mazlíčci\, ho přesvědčí o tom\, že z malého kluka ještě nevyrostl a hrát si může klidně dál.V představení uvidí děti skutečné hračky\, oblíbené plyšáky\, do kterých se zamilují nejen ony\, ale také jejich rodiče.\nDěti\, které nedosáhly věku dvou let zdarma bez vstupenky a nároku na vlastní sedadlo\, každý jiný návštěvník musí mít platnou vstupenku.\nPo vystoupení se Michal s dětmi fotí a podepisuje.
LOCATION:Hustopeče
END:VEVENT
END:VCALENDAR