BEGIN:VCALENDAR
VERSION:2.0
CALSCALE:GREGORIAN
PRODID:-//MyApp//Calendar 1.0//EN
BEGIN:VEVENT
METHOD:PUBLISH
UID:59140@regionalniportaly.cz
DTSTAMP:20260422T022751Z
DTSTART;VALUE=DATE:20251220
DTEND;VALUE=DATE:20251221
SUMMARY:Nezmaři - Vyprodáno
DESCRIPTION:Koncert proběhne v kinosále\, vstupné 290 Kč.
LOCATION:Hustopeče
END:VEVENT
END:VCALENDAR