BEGIN:VCALENDAR
VERSION:2.0
CALSCALE:GREGORIAN
PRODID:-//MyApp//Calendar 1.0//EN
BEGIN:VEVENT
METHOD:PUBLISH
UID:59139@regionalniportaly.cz
DTSTAMP:20260421T225146Z
DTSTART;VALUE=DATE:20251214
DTEND;VALUE=DATE:20251215
SUMMARY:Adventní koncert: Gospel Friends
DESCRIPTION:Koncert proběhne v kostele sv. Václava\, vstupné 210 Kč.
LOCATION:Hustopeče
END:VEVENT
END:VCALENDAR