BEGIN:VCALENDAR
VERSION:2.0
CALSCALE:GREGORIAN
PRODID:-//MyApp//Calendar 1.0//EN
BEGIN:VEVENT
METHOD:PUBLISH
UID:59138@regionalniportaly.cz
DTSTAMP:20260421T231311Z
DTSTART;VALUE=DATE:20251213
DTEND;VALUE=DATE:20251214
SUMMARY:Malá vánoční taškařice aneb Kapr v AKCI!
DESCRIPTION:Přijďte s námi prožít netradiční vánoční příběh\, který s laskavým humorem ukazuje\, že skutečné kouzlo Vánoc se skrývá někde úplně jinde než v nákupních centrech. Možná ho objevíte právě vy – společně s kaprem Pepou a sněhulákem Huhulákem\, kteří zjistí\, že nejcennějším dárkem je přátelství a schopnost být tu pro druhé. Pohádkový příběh pro děti a horor pro jejich rodiče. Vstupné 150 Kč\, účinkuje Divadlo NAVĚTVI.
LOCATION:Hustopeče
END:VEVENT
END:VCALENDAR