BEGIN:VCALENDAR
VERSION:2.0
CALSCALE:GREGORIAN
PRODID:-//MyApp//Calendar 1.0//EN
BEGIN:VEVENT
METHOD:PUBLISH
UID:59137@regionalniportaly.cz
DTSTAMP:20260421T225323Z
DTSTART;VALUE=DATE:20251207
DTEND;VALUE=DATE:20251208
SUMMARY:Adventní koncert: Túfaranka
DESCRIPTION:Koncert se odehraje v kinosále a délka je asi 110 minut.\nVstupné 250 Kč.
LOCATION:Hustopeče
END:VEVENT
END:VCALENDAR