BEGIN:VCALENDAR
VERSION:2.0
CALSCALE:GREGORIAN
PRODID:-//MyApp//Calendar 1.0//EN
BEGIN:VEVENT
METHOD:PUBLISH
UID:59136@regionalniportaly.cz
DTSTAMP:20260422T004227Z
DTSTART;VALUE=DATE:20251128
DTEND;VALUE=DATE:20251129
SUMMARY:Na křestním jméně záleží
DESCRIPTION:Příběh úspěšného spisovatele Davida\, který jednoho večera zjistí\, že neví nic o své hospodyni\, kterou zaměstnává celých dvacet osm let. Ona o něm ví naopak téměř všechno a David se jednoho večera o ní snaží konečně také něco dozvědět. Mohlo by se zdát\, že vzdělaný David bude mít v konverzaci pořádně navrch\,  jenže hospodyně Lucy\, kterou David přirovnává k  „oprsklé filmové hvězdě ze čtyřicátek“\, mu je v dialogu překvapivě dobrým partnerem a to\, že má Davida přečteného\, je pro ni samozřejmě velká výhoda. Mezi oběma to jiskří a děj se dynamicky posouvá kupředu. Když už má divák dojem\, že všechno ví\, následují další a další překvapení…\nHrají:  Antonie Talacková\, Igor Bareš.\nDélka představení: 120 minut s přestávkou.
LOCATION:Hustopeče
END:VEVENT
END:VCALENDAR