BEGIN:VCALENDAR
VERSION:2.0
CALSCALE:GREGORIAN
PRODID:-//MyApp//Calendar 1.0//EN
BEGIN:VEVENT
METHOD:PUBLISH
UID:59133@regionalniportaly.cz
DTSTAMP:20260422T004319Z
DTSTART;VALUE=DATE:20251107
DTEND;VALUE=DATE:20251109
SUMMARY:Šmardovo sousedské divadlo
DESCRIPTION:Nesoutěžní přehlídka amatérských divadelních souborů v kině.\npá 7. 11. 19.00\nM*A*S*H – účinkuje Divadlo Stodola. Vstupné 150 Kč (studenti a senioři 100 Kč).\nso 8. 11. 15.00\nO čertovi – dětská divadelní pohádka. Účinkuje Divadlo Prkno. Vstupné 80 Kč.\nso 8. 11. 18.00\nTři banánové krabice – účinkuje Divadlo Prkno. Vstupné 150 Kč (studenti a senioři 100 Kč).\nne 9. 11. 18.00\nRomeo\, Julie a tma – účinkuje DS bratří Mrštíků Boleradice. Vstupné 150 Kč (studenti a senioři 100 Kč).
LOCATION:Hustopeče
END:VEVENT
END:VCALENDAR