BEGIN:VCALENDAR
VERSION:2.0
CALSCALE:GREGORIAN
PRODID:-//MyApp//Calendar 1.0//EN
BEGIN:VEVENT
METHOD:PUBLISH
UID:58784@regionalniportaly.cz
DTSTAMP:20260422T022937Z
DTSTART;VALUE=DATE:20251108
DTEND;VALUE=DATE:20251109
SUMMARY:GATE Crasher a Ozzy revival v Nikolčicích
DESCRIPTION:Jedinečný&nbsp\;rockový večer s&nbsp\;GATE Crasher a Ozzy revival Humpolec v Nikolčicích!Sobota 8.11.2025\, 19:00Kulturní dům Nikolčice\, Nikolčice 24\, 69171&nbsp\;GATE CrasherRocková smršť GATE Crasher je stále známějším jménem na domácí scéně. Pravidelně vystupuje na největších letních festivalech\, hrála jako host zahraničních hvězd (Aerosmith\, Ozzy Osbourne\, Korn\, Iron Maiden ..) a aktuálně boduje s novinkami TŘI KŘÍŽE a JAKO VLCI\, které se rychle stávají nejúspěšnějšími písněmi v její historii.Po vydání aktuální desky "Pro tohle my žijem" (2024)&nbsp\;kapela zaznamenala raketový nárůst zájmu fanoušků&nbsp\;jak na živých vystoupeních\, tak na online platformách. Klip k písni&nbsp\;Tři kříže&nbsp\;si na YouTube za první rok od zveřejnění přehrálo více než milion posluchačů.&nbsp\;Speciální host večera:Ozzy revival Humpolec&nbsp\;Let's go fucking crazy!!!! Zahrajeme ty největší Ozzyho pecky. Fakt nás to baví. Náš Ozzák je dokonalý\, i když žije v Humpolci. Tedy lze bez nadsázky použít legendární větu: Ozzy se odstěhoval do Humpolce! A teď už jen jak říká Mistr: Let the madness begin nebo hezky česky Pojďte si zatrojčit!
LOCATION:Nikolčice
END:VEVENT
END:VCALENDAR