BEGIN:VCALENDAR
VERSION:2.0
CALSCALE:GREGORIAN
PRODID:-//MyApp//Calendar 1.0//EN
BEGIN:VEVENT
METHOD:PUBLISH
UID:58123@regionalniportaly.cz
DTSTAMP:20260422T003844Z
DTSTART;VALUE=DATE:20251025
DTEND;VALUE=DATE:20251026
SUMMARY:Arnošt Goldflam - Dámská šatna
DESCRIPTION:Skrze setkání a rozhovory v divadelní šatně dává komedie nahlédnout do osudů čtyř hereček. Do života Marie právě vstupuje nový muž\, prožívá počáteční okouzlení i následné rozčarování. Trudu s malou dcerou zase již po několikáté opouští manžel. Mladičká Klára přirozeně touží po roli\, divadelním růstu i úspěchu. Nejstarší Líza řeší v obecnější rovině smysluplnost hereckého poslání. Ve čtyřech generačních rovinách lze paralelně sledovat často provázané osobní i profesní události.\nKomedie skvěle poodhaluje jindy tak skryté atraktivní prostředí divadelního zákulisí. Netřeba příliš zdůrazňovat\, že u autora není o situační humor nouze\,. Dámská šatna vybízí diváky\, aby si představení užili a odcházeli dobře naladěni. 
LOCATION:Boleradice
END:VEVENT
END:VCALENDAR