BEGIN:VCALENDAR
VERSION:2.0
CALSCALE:GREGORIAN
PRODID:-//MyApp//Calendar 1.0//EN
BEGIN:VEVENT
METHOD:PUBLISH
UID:57828@regionalniportaly.cz
DTSTAMP:20260422T022742Z
DTSTART;VALUE=DATE:20251122
DTEND;VALUE=DATE:20251123
SUMMARY:Verona: live!
DESCRIPTION:Legendární skupina VERONA míří 22.11.2025 do Retro Clubu\, přijďte si užít jejich jedinečnou show u nás! ★&nbsp\;&nbsp\;Za mixem Dj LUKE&nbsp\;Go Go tanečnice&nbsp\;Čtyři bary&nbsp\;Koktejly&nbsp\;Stylová Glo lounge&nbsp\;Profesionální party fotograf&nbsp\;Online rezervace stolů:&nbsp\;https://bit.ly/RezervaceRetroClub&nbsp\;Instagram Retro Clubu:&nbsp\;https://bit.ly/Ig_RetroClubRETROKÁROU DO KLUBU TAM I ZPĚT ZDARMA!&nbsp\;702 194 808 (až 7 lidí)&nbsp\;&nbsp\;722 213 832 (až 4 lidi)Rezervujte si svoz do klubu vždy o víkendu od 19:00 hodin.Jezdíme v okruhu 35 km až k brněnské Olympii!
LOCATION:Zaječí
END:VEVENT
END:VCALENDAR