BEGIN:VCALENDAR
VERSION:2.0
CALSCALE:GREGORIAN
PRODID:-//MyApp//Calendar 1.0//EN
BEGIN:VEVENT
METHOD:PUBLISH
UID:57812@regionalniportaly.cz
DTSTAMP:20260422T003954Z
DTSTART;VALUE=DATE:20251122
DTEND;VALUE=DATE:20251123
SUMMARY:Krausberry
DESCRIPTION:POZVÁNKA NA KONCERT KRAUSBERRY!Přijď na večer plný energie\, dobré muziky a poctivého rock’n’rollu!Zveme Tě na jedinečný koncert kapely&nbsp\;KRAUSBERRY\, která už desítky let drží vlajku českého bigbítu pevně v rukou!Předkapely:La Bande&nbsp\;–skvělá skupina\, která vás svým svěžím soundem zaručeně dostane do rytmu!Skrznaskrz&nbsp\;–&nbsp\;energická parta\, která rozproudí krev v žilách a naladí vás na pořádnou dávku rockové energie.🎫 Vstupné: 420 v předprodeji\, 450 na místěNeváhej – večer plný živé muziky\, nezaměnitelného hlasu Martina Krause a rockové atmosféry čeká právě na Tebe!Těšíme se!Kultura Němčice&nbsp\;
LOCATION:Velké Němčice
END:VEVENT
END:VCALENDAR