BEGIN:VCALENDAR
VERSION:2.0
CALSCALE:GREGORIAN
PRODID:-//MyApp//Calendar 1.0//EN
BEGIN:VEVENT
METHOD:PUBLISH
UID:57590@regionalniportaly.cz
DTSTAMP:20260422T024237Z
DTSTART;VALUE=DATE:20250920
DTEND;VALUE=DATE:20250921
SUMMARY:Benefiční koncert Na křídle motýla
DESCRIPTION:V jihomoravských Dolních Dunajovicích se v sobotu 20. září 2025 od 17.00 hodin uskuteční 11. ročník benefičního koncertu „Na křídle motýla“ a to pod záštitou jihomoravského hejtmana Jana Grolicha\, primátorky města Brna Markéty Vaňkové a starosty obce Dolní Dunajovice Josefa Hasníka. Koncert se uskuteční na návsi obce a to premiérově pro Nadační fond Emil - který pomáhá handicapovaným dětem a mladým lidem sportovat.
LOCATION:Dolní Dunajovice
END:VEVENT
END:VCALENDAR