BEGIN:VCALENDAR
VERSION:2.0
CALSCALE:GREGORIAN
PRODID:-//MyApp//Calendar 1.0//EN
BEGIN:VEVENT
METHOD:PUBLISH
UID:57533@regionalniportaly.cz
DTSTAMP:20260422T003835Z
DTSTART;VALUE=DATE:20251123
DTEND;VALUE=DATE:20251124
SUMMARY:Švanci: Já su já
DESCRIPTION:
LOCATION:Hustopeče
END:VEVENT
END:VCALENDAR