BEGIN:VCALENDAR
VERSION:2.0
CALSCALE:GREGORIAN
PRODID:-//MyApp//Calendar 1.0//EN
BEGIN:VEVENT
METHOD:PUBLISH
UID:57531@regionalniportaly.cz
DTSTAMP:20260422T022824Z
DTSTART;VALUE=DATE:20250926
DTEND;VALUE=DATE:20250927
SUMMARY:Beseda s Veronikou Hurdovou
DESCRIPTION:Beseda s autorkou knih\, kterou pořádá Narana Hustopeče. Vstupné 150 Kč.
LOCATION:Hustopeče
END:VEVENT
END:VCALENDAR