BEGIN:VCALENDAR
VERSION:2.0
CALSCALE:GREGORIAN
PRODID:-//MyApp//Calendar 1.0//EN
BEGIN:VEVENT
METHOD:PUBLISH
UID:56675@regionalniportaly.cz
DTSTAMP:20260422T022845Z
DTSTART;VALUE=DATE:20250808
DTEND;VALUE=DATE:20250810
SUMMARY:Letní kino v Hustopečích
DESCRIPTION:Ve dnech 8. a 10. srpna se můžete těšit na bonusový víkend letního kina. Sejdeme se opět v prostorách amfiteátru za společenským domem. V pátek 8. srpna promítáme komedii Džob a v neděli 10. srpna rodinný film Panda a já.\nZačíná se vždy po setmění (ve 21 hodin) a za každého počasí. Vstupenky je možné zakoupit na místě či online a stojí 120 Kč. Pokladna bude otevřena od 20.30 hodin.
LOCATION:Hustopeče
END:VEVENT
END:VCALENDAR