BEGIN:VCALENDAR
VERSION:2.0
CALSCALE:GREGORIAN
PRODID:-//MyApp//Calendar 1.0//EN
BEGIN:VEVENT
METHOD:PUBLISH
UID:56099@regionalniportaly.cz
DTSTAMP:20260422T214912Z
DTSTART;VALUE=DATE:20250801
DTEND;VALUE=DATE:20250803
SUMMARY:ART WINE WEEKEND
DESCRIPTION:Zažijte jedinečný víkend plný špičkových vín\, umění\, hudby a relaxu. Užijte si ubytování v moderním Hotelu Kurdějov se snídaní a dvoudenní program s degustací vína a kulturními zážitky.
LOCATION:Kurdějov
END:VEVENT
END:VCALENDAR