BEGIN:VCALENDAR
VERSION:2.0
CALSCALE:GREGORIAN
PRODID:-//MyApp//Calendar 1.0//EN
BEGIN:VEVENT
METHOD:PUBLISH
UID:56098@regionalniportaly.cz
DTSTAMP:20260422T022711Z
DTSTART;VALUE=DATE:20250802
DTEND;VALUE=DATE:20250803
SUMMARY:ART WINE HALL FESTIVAL
DESCRIPTION:Jedinečný srpnový Art Wine Hall Festival v sobě spojuje víno\, kulturu a letní atmosféru. Vychutnejte si výběr kvalitních suchých vín z mezinárodní soutěže a apelačních vín od předních vinařů. Těšit se můžete také na poutavý doprovodný program s živou hudbu\, degustačními zážitky\, prodejní výstavou uměleckých děl a občerstvením v hotelu Vinař.
LOCATION:Kurdějov
END:VEVENT
END:VCALENDAR