BEGIN:VCALENDAR
VERSION:2.0
CALSCALE:GREGORIAN
PRODID:-//MyApp//Calendar 1.0//EN
BEGIN:VEVENT
METHOD:PUBLISH
UID:55896@regionalniportaly.cz
DTSTAMP:20260422T041610Z
DTSTART;VALUE=DATE:20250808
DTEND;VALUE=DATE:20250809
SUMMARY:Já\, padouch 4 - Letní kino
DESCRIPTION:
LOCATION:Nikolčice
END:VEVENT
END:VCALENDAR