BEGIN:VCALENDAR
VERSION:2.0
CALSCALE:GREGORIAN
PRODID:-//MyApp//Calendar 1.0//EN
BEGIN:VEVENT
METHOD:PUBLISH
UID:55844@regionalniportaly.cz
DTSTAMP:20260422T022548Z
DTSTART;VALUE=DATE:20250729
DTEND;VALUE=DATE:20250730
SUMMARY:Modré úterý - Roman Horký - Kamelot
DESCRIPTION:Dovolujeme si Vás v rámci hudebního projektu "Modré úterý"&nbsp\;srdečně pozvat na koncert pod širým nebem\, který se bude konat v našem malebném Amfiteátru Spolkového domu v Podivíně.&nbsp\;ROMAN HORKÝ a KAMELOT 2025 -&nbsp\;KONCERT„TO NEJLEPŠÍ OD KAMELOT“Roman Horký\, skladatel\, zpěvák a kytarista jedné z&nbsp\;nejúspěšnějších folkových a trampských&nbsp\; hudebních skupin České a Slovenské republiky připravil se svojí skupinou pro rok 2025 a 2026 nový koncertní projekt.Roman Horký a Kamelot je partou skvělých muzikantů a zpěváků\, která v&nbsp\;nejvyšší hudební kvalitě zahraje v &nbsp\;plném nasazení v&nbsp\;divadelním sále\, kulturním domu\, sokolovně\, na venkovních pódiích\, festivalech\, ale i u táboráku. Kamelot žije hudbou\, autorskými skladbami a přináší návštěvníkům svých koncertů mimořádně krásné chvíle a hudební zážitky.V koncertním projektu „TO NEJLEPŠÍ OD KAMELOT“ (90 min.) se skupina vrací ke skladbám ze dvou úvodních alb\, k písním složeným v letech 1981 až 1991. K období\, které dalo Kamelotu alba Zachraňte koně\, Tajný výpravy a kdy se kapela zapsala do srdcí tisíců posluchačů. Koncertní program je složen z&nbsp\;těchto &nbsp\;dnes již legendárních skladeb jako Zachraňte koně\, Cikáni\, Amulet\, Čas rozchodů\, Psáno na březové kůře\, Tajný výpravy\, Krajina větrných mlýnů\, Vzpomínka na kamaráda a dalších písní prvního desetiletí kapely.„Zachraňte koně je první a nejúspěšnější studiové album skupiny Kamelot. Bylo vydáno v&nbsp\;roce 1990. Za téměř 100 tisíc prodaných nosičů bylo oceněno multiplatinovou deskou. Titulní píseň Zachraňte koně se stala Hitem desetiletí ve folk a country hudbě.“V&nbsp\;tomto koncertu zazní zkrátka celá řada nejstarších\, ale také největších hitů kapely i z&nbsp\;dalších let. A jak je u Kamelotu příjemným zvykem\, také některé nečekané skladby z&nbsp\;historie skupiny.Koncerty Kamelotu s&nbsp\;osobitým humorem\, ale i kultivovaným projevem Romana Horkého\, výbornými muzikantskými i pěveckými výkony členů skupiny\,&nbsp\; s&nbsp\;důrazem na kvalitní ozvučení se těší stále většímu zájmu diváků a posluchačů.&nbsp\; &nbsp\; &nbsp\; &nbsp\; &nbsp\; &nbsp\; &nbsp\; &nbsp\; &nbsp\; &nbsp\; &nbsp\; &nbsp\; &nbsp\;&nbsp\;&nbsp\;
LOCATION:Podivín
END:VEVENT
END:VCALENDAR