BEGIN:VCALENDAR
VERSION:2.0
CALSCALE:GREGORIAN
PRODID:-//MyApp//Calendar 1.0//EN
BEGIN:VEVENT
METHOD:PUBLISH
UID:55583@regionalniportaly.cz
DTSTAMP:20260422T022644Z
DTSTART;VALUE=DATE:20251002
DTEND;VALUE=DATE:20251004
SUMMARY:Burčákové slavnosti 2025
DESCRIPTION:Návštěvníci se mohou těšit na řemeslný jarmark\, historický průvod\, zasedání Burčákové unie a na mázhausy\, ve kterých poteče burčák proudem. Burčákové slavnosti budou zahájeny ve čtvrtek\, kdy vystoupí na náměstí místní.V pátek vypuknou naplno otevíráním mázhausů\, ve večerních hodinách zazní koncert Michala Horáka a kapely Vypsaná Fixa.Součástí sobotního programu bude i letos řemeslný jarmark\, zvěřinec\, šapitó a kratochvíle pro děti\, malá scéna v domě U Synků a i v amfiteátru\, soutěž ve válení beček\, otevřená historická Střelnice apod. O hudební program se postarají Voxel\, Aneta Langerová a David Koller.\nPředprodej vstupenek:\n1.–30. 6. 300\,- Kč pouze v TIC Hustopeče\n1. 7.–31. 8. 450\,- Kč on-line i v TIC\, 350\,- Kč senioři\, studenti\, ZTP - pouze v TIC\n1. 9.–2. 10. 500\,- Kč on-line i v TIC\, 350\,- Kč senioři\, studenti\, ZTP - pouze v TIC\nNa místě:\nPátek 3. 10. 250\,- Kč\, 150\,- Kč senioři\, studenti\, ZTP\nSobota 4. 10. 400\,- Kč\, 250\,- Kč senioři\, studenti\, ZTP
LOCATION:Hustopeče
END:VEVENT
END:VCALENDAR