BEGIN:VCALENDAR
VERSION:2.0
CALSCALE:GREGORIAN
PRODID:-//MyApp//Calendar 1.0//EN
BEGIN:VEVENT
METHOD:PUBLISH
UID:55581@regionalniportaly.cz
DTSTAMP:20260422T022834Z
DTSTART;VALUE=DATE:20250808
DTEND;VALUE=DATE:20250809
SUMMARY:ZRUŠENO - Na křestním jméně záleží
DESCRIPTION:ZRUŠENO! Náhradní termín 28.11. 2025 v kinosále. Vstupné zakoupené online bude vráceno automaticky. Pokud jste si lístky koupili osobně v TIC\, bude nutné je osobně přijít vrátit.\n 
LOCATION:Hustopeče
END:VEVENT
END:VCALENDAR