BEGIN:VCALENDAR
VERSION:2.0
CALSCALE:GREGORIAN
PRODID:-//MyApp//Calendar 1.0//EN
BEGIN:VEVENT
METHOD:PUBLISH
UID:55579@regionalniportaly.cz
DTSTAMP:20260422T041744Z
DTSTART;VALUE=DATE:20250720
DTEND;VALUE=DATE:20250721
SUMMARY:Pirátské odpoledne pro děti
DESCRIPTION:V amfiteátru se můžete těšit na pirátskou pohádku\, hry a soutěže\, táborák či opékání špekáčků. Účinkuje Divadýlko Mrak. Vstupné 150 Kč.
LOCATION:Hustopeče
END:VEVENT
END:VCALENDAR