BEGIN:VCALENDAR
VERSION:2.0
CALSCALE:GREGORIAN
PRODID:-//MyApp//Calendar 1.0//EN
BEGIN:VEVENT
METHOD:PUBLISH
UID:55573@regionalniportaly.cz
DTSTAMP:20260422T041648Z
DTSTART;VALUE=DATE:20250703
DTEND;VALUE=DATE:20250706
SUMMARY:Letní kino v Hustopečích
DESCRIPTION:Ve dnech 3.–6. července bude probíhat již tradiční promítání letního kina. Tentokrát podruhé v prostorách amfiteátru za společenským domem. Vstupenky je možné zakoupit na místě či online a stojí 120 Kč. Pokladna bude otevřena od 20.30 hodin. 
LOCATION:Hustopeče
END:VEVENT
END:VCALENDAR