BEGIN:VCALENDAR
VERSION:2.0
CALSCALE:GREGORIAN
PRODID:-//MyApp//Calendar 1.0//EN
BEGIN:VEVENT
METHOD:PUBLISH
UID:54936@regionalniportaly.cz
DTSTAMP:20260422T022730Z
DTSTART;VALUE=DATE:20250717
DTEND;VALUE=DATE:20250718
SUMMARY:Divadelní představení Vejšlap
DESCRIPTION:Komediální oslava přátelství\, přírody a života.Tři stárnoucí kamarádi na úpatí hory a dvoudenní túra před nimi. Cíl je jasný - překonat krizi středního věku.\nHostuje Divadlo Ungelt Praha. Hrají: Martin Písařík\, Petr Stach\, Jan Holík.\nVstupné v předprodeji 650\,-/550\,- Kč\, na místě 800\,-/700\,- Kč\nOchutnávka vín místních vinařů\, občerstvení zajištěno.
LOCATION:Hustopeče
END:VEVENT
END:VCALENDAR