BEGIN:VCALENDAR
VERSION:2.0
CALSCALE:GREGORIAN
PRODID:-//MyApp//Calendar 1.0//EN
BEGIN:VEVENT
METHOD:PUBLISH
UID:54932@regionalniportaly.cz
DTSTAMP:20260422T041637Z
DTSTART;VALUE=DATE:20250614
DTEND;VALUE=DATE:20250615
SUMMARY:Hustopečský slunovrat s vínem
DESCRIPTION:Připravte se na nezapomenutelný letní den plný vína\, hudby a skvělé atmosféry! Hustopečský slunovrat s vínem se koná 14. června od poledne do půlnoci. Letos v novém kabátku.\nVstupenky v předprodeji za zvýhodněnou cenu 550 Kč nyní dostupné! Co vše mám v ceně?\n\n20 degustačních vzorků (1 vzorek = 0\,5 dl) (v hodnotě 500\,- Kč!!)skleničkumapku otevřených sklepůID páskuvstup na večerní program v amfiteátru\n\n Předprodej bude ukončen ve středu 11. června.🛍️\nVstupenky lze zakoupit i na místě ve Střelnici (Na Hradbách 463)\, v Turistickém informačním centru (Dukelské nám. 42/15) a Víno Stehlík (Vinařská 23) za 650 Kč.\nProgram:\n11:00 - Začátek prodeje vstupenek - Střelnice\, Turistické informační centrum a Víno Stehlík. Na těchto místech také směníte své lístky za startovací balíček.12:00 – Otevření sklepů (lokality: Na Hradbách\, Vinařská\, Herbenova\, Kurdějovská)17:00 - Ukončení prodeje vstupenek a výměny lístků za balíček19:00 - Konec koštování ve sklepech. Možné pokračovat po domluvě s vinařem19:30 – Souboj vinařů (v amfiteátru za Spolákem\, Herbenova 423)20:00 – Koncert Šarže 54 (s vínem\, pivem\, občerstvením) . Zde můžete využít zbylé degustační lístečky a ochutnat víno od všech vinařů. Dát si pivo\, nealko nebo něco na zub. A hlavně zapařit na skvělou kapelu.\n \nVstup pouze na Amfiteátr od 19.00 za 150 Kč\nTěšíme se na vás při oslavě slunovratu ve vinařském stylu! 🌞🍇
LOCATION:Hustopeče
END:VEVENT
END:VCALENDAR