BEGIN:VCALENDAR
VERSION:2.0
CALSCALE:GREGORIAN
PRODID:-//MyApp//Calendar 1.0//EN
BEGIN:VEVENT
METHOD:PUBLISH
UID:54091@regionalniportaly.cz
DTSTAMP:20260422T025128Z
DTSTART;VALUE=DATE:20250705
DTEND;VALUE=DATE:20250706
SUMMARY:La Argentinidad - festival argentinské kultury
DESCRIPTION:La Argentinidad - festival argentinské kultury
LOCATION:Pouzdřany
END:VEVENT
END:VCALENDAR