BEGIN:VCALENDAR
VERSION:2.0
CALSCALE:GREGORIAN
PRODID:-//MyApp//Calendar 1.0//EN
BEGIN:VEVENT
METHOD:PUBLISH
UID:53870@regionalniportaly.cz
DTSTAMP:20260422T041724Z
DTSTART;VALUE=DATE:20250607
DTEND;VALUE=DATE:20250608
SUMMARY:Letní otevřené sklepy Brumovice 2025
DESCRIPTION:Brumovičtí vinaři Vás zvou na Letní otevřené sklepy\, které se konají v sobotu 7. června od 10 do 19 hodin. V neděli 8. června od 9 do 13 hodin budou vinaři k dispozici ve svých sklepech pro prodej vín.\nBrumovice se nachází na pomezí dvou vinařských mikroregionů\, a proto Vám nabídnou charakterní vína pro Modré hory i Kloboucko.\n \nVstupné:Cena v předprodeji - 600 Kč- K zakoupení online do 4.6.2025 (vstupenku s QR kódem si uložte nebo vytiskněte - je nutné předložit u vstupu)\nCena na místě - 700 Kč- K zakoupení v den akce na obecním úřadě (pouze hotovost\, k dispozici bankomat hned u vstupu)\nProgram:- 10:00 zahájení akce\, prodej vstupenek a výdej skleniček na obecním úřadě (Brumovice 155)- Volná degustace ve všech vinařství- 20:00 rocková kapela Jama v areálu hřiště (Brumovice 312)\, grilované speciality\nZákladní vstupenka zahrnuje:- Vstup do vybraných vinařství- Degustaci vín ve sklepích- Malé občerstvení typicky pečivo a sýry k neutralizaci chuti- Skleničku s logem- Mapka s umístěnými sklepy a občerstvením- Seznam vín nabízených v otevřených vinařstvích- Dva kupóny v celkové hodnotě 200 Kč na nákup vín/občerstvení- Vstup na večerní zábavu s kapelou\nInformace o ubytování v Brumovicích a blízkém okolí:--&gt\; Hledám ubytování &lt\;--\nJak se k nám dostat?--&gt\; Cesta do Brumovic &lt\;--\nPodívejte se\, jak vypadaly loňské otevřené sklepy:Fotky z předešlých Otevřených sklepů 
LOCATION:Brumovice
END:VEVENT
END:VCALENDAR