BEGIN:VCALENDAR
VERSION:2.0
CALSCALE:GREGORIAN
PRODID:-//MyApp//Calendar 1.0//EN
BEGIN:VEVENT
METHOD:PUBLISH
UID:53811@regionalniportaly.cz
DTSTAMP:20260422T022624Z
DTSTART;VALUE=DATE:20251004
DTEND;VALUE=DATE:20251005
SUMMARY:SIMA v Retro Clubu!
DESCRIPTION:Někdo říká queen. My říkáme S I M A. A tahle královna slovenský scény přijede do Zaječí roztrhat stage\, rozhýbat boky a nabít tě energií\, kterou nenajdeš ani v Red Bullu.Hitovky jako „Spolu“\, „Bez tebe“\, „Sorry“ nebo „V oblakoch“? Jo. Zazní. Nahlas. A ty u toho budeš řvát refrény jako by ti šlo o život.Po ní přebírá beaty&nbsp\;DJ LEEMAC\, takže zůstáváš na parketu\, dokud nohy neřeknou STOP.Online rezervace stolů:&nbsp\;https://bit.ly/RezervaceRetroClubInstagram Retro Clubu:&nbsp\;https://bit.ly/Ig_RetroClubRETROKÁROU DO KLUBU TAM I ZPĚT ZDARMA!&nbsp\;702 194 808 (až 7 lidí)Rezervujte si svoz do klubu vždy o víkendu od 19:00 hodin.Jezdíme v okruhu 35km až k brněnské Olympii!&nbsp\;
LOCATION:Zaječí
END:VEVENT
END:VCALENDAR