BEGIN:VCALENDAR
VERSION:2.0
CALSCALE:GREGORIAN
PRODID:-//MyApp//Calendar 1.0//EN
BEGIN:VEVENT
METHOD:PUBLISH
UID:53809@regionalniportaly.cz
DTSTAMP:20260422T022635Z
DTSTART;VALUE=DATE:20250926
DTEND;VALUE=DATE:20250927
SUMMARY:EGO v Retro Clubu!
DESCRIPTION:Slovenská rapová legenda EGO míří do Zaječí! A my ti garantujeme: tohle nebude koncert\, to bude nálož.Od hitů jako Žijeme len raz přes GTA\, Robím to čo chcem\, až po novinky\, co ti rozvibrujou hrudník – Ego přiveze flow\, vibe a energii\, co v Retru dlouho nebyla.DJ PMC je zkušený brněnský DJ a moderátor\, který už od 90. let roztáčí kluby po celé ČR. Jeho doménou je taneční elektronika – od housu až po italský disco vibe. Na Egově show v Retru se postará o support\, co tě nepustí z parketu.Online rezervace stolů:&nbsp\;https://bit.ly/RezervaceRetroClubInstagram Retro Clubu:&nbsp\;https://bit.ly/Ig_RetroClubRETROKÁROU DO KLUBU TAM I ZPĚT ZDARMA!&nbsp\;702 194 808 (až 7 lidí)Rezervujte si svoz do klubu vždy o víkendu od 19:00 hodin.Jezdíme v okruhu 35km až k brněnské Olympii!
LOCATION:Zaječí
END:VEVENT
END:VCALENDAR