BEGIN:VCALENDAR
VERSION:2.0
CALSCALE:GREGORIAN
PRODID:-//MyApp//Calendar 1.0//EN
BEGIN:VEVENT
METHOD:PUBLISH
UID:53608@regionalniportaly.cz
DTSTAMP:20260422T174944Z
DTSTART;VALUE=DATE:20250607
DTEND;VALUE=DATE:20250608
SUMMARY:St. Johann Fest - Zahradní vinařská slavnost za Radnicí v Kurdějově
DESCRIPTION:St. Johann Fest – Festival vínasobotní&nbsp\; St. Johann Fest Kurdějov7. června 2025 | &nbsp\;od 16:00 hodin | KurdějovPozdně-odpolední degustace vín místních vinařů a jejich přátel se bude konat na v CENTRU obce s podvečerním koncertemPROGRAM:Zahájení 16:0016:00 – 22:00 Degustace vín s vinaři16:00 – 18:00 Otevřená vyhlídka Němeček Brothers s ochutnávkou vín a výhledem na Pálavu19:00 - 22:00 Večerní koncert Hanky PregrtovéUkončení 0:00DOPROVODNÝ PROGRAM:• Hudební vystoupení po celý den: Barborky z Komořan• Večerní koncert Hanky PregertovéOBČERSTVENÍ:• Guláš i pivo...v místní hospůdceVSTUPNÉ:Prodej na místě: 200\,- Kč (rozdíl v ceně Vám bude kompenzován lístky na ochutnávku)(pásek na ruku\, sklenka\, večerní koncert)Ceny vín na ochutnávku: 20\, 30\, 40 a 50 Kč/0\,5 dclObjevujte kolébku vinařského přátelství v Kurdějově.Těšíme se na vás v Kurdějově!
LOCATION:Kurdějov
END:VEVENT
END:VCALENDAR