BEGIN:VCALENDAR
VERSION:2.0
CALSCALE:GREGORIAN
PRODID:-//MyApp//Calendar 1.0//EN
BEGIN:VEVENT
METHOD:PUBLISH
UID:53301@regionalniportaly.cz
DTSTAMP:20260422T061428Z
DTSTART;VALUE=DATE:20250410
DTEND;VALUE=DATE:20250411
SUMMARY:Divadelní představení Racek (přímý přenos)
DESCRIPTION:Přímý přenos představení do kin 10. dubna 2025 od 19.00.\nInscenace v režii Michala Vajdičky patřila dlouhých 12 let k nejnavštěvovanějším a nejúspěšnějším titulům na repertoáru dejvické scény\, a už v průběhu uvádění se stala svým způsoben legendou. Přinášíme vám přímý přenos derniéry tohoto představení\, v němž excelují v hlavních rolích Klára Melíšková\, Ivan Trojan\, Jaroslav Plesl a Veronika Khek Kubařová. Událost je to tedy více než unikátní!\nPředpokládaná délka představení: 210 min (včetně přestávky).\n 
LOCATION:Hustopeče
END:VEVENT
END:VCALENDAR