BEGIN:VCALENDAR
VERSION:2.0
CALSCALE:GREGORIAN
PRODID:-//MyApp//Calendar 1.0//EN
BEGIN:VEVENT
METHOD:PUBLISH
UID:52883@regionalniportaly.cz
DTSTAMP:20260422T022720Z
DTSTART;VALUE=DATE:20250927
DTEND;VALUE=DATE:20250928
SUMMARY:Back to the Oáza - sraz 2 - Dj FANATIC / Dj PMC
DESCRIPTION:Po neuvěřitelným úspěchu březnové party\, která se za 28 dní vyprodala\, po neskutečných ohlasech po akci a po anketě\, kde jste jasně rozhodli o tom\, že stojíte o opakování této vzpomínkové party v tomto formátu .... přinášíme její druhý pokračování.Tentokrát se sejdeme v sobotu 27.9.\, což je datum\, které patří dni\, kdy Oáza před 28 lety poprvé otevřela a společně oslavíme její neuvěřitelný 28.narozeniny. A největším dárkem by bylo\, kdyby na ní dorazili opět její největší fanoušci a klub zaplnili.Opět bude věková hranice pro vstup pro starší 23 let a pro vaše pohodlí a kvalitnější servis bude tentokrát kapacita snížena na 450 osob.PS: v případě\, že nám bude přát počasí\, tak bude otevřena i velká terasa s barem a kapacita bude navýšena. (zveřejníme v týdnu před akcí)Po celý večer budeme opět hrát vaše nejoblíbenější pecky ze zlaté éry klubu a to z období let 1998 - 2012 a o ten nejlepší výběr těchto hitovek se postará osvědčená dvojka DJ Pmc a Dj Fanatic.Opět pro vás máme připravený super program a tentokrát se přesuneme ze starověkého Egypta pod střechu cirkusového šapitó.Těšit se můžete na cirkusové dekorace v celým klubu\, na projekci dalších vašich vzpomínkových fotek\, další várku tištěných fotek v klubu\, na legendární tanečnice a animátory v cirkusových kostýmech\, profesionální žongléry\, laser show\, konfety\, Co2 dělo\, pánský striptýz krotitele Marthyho a nebude chybět ani profi fotoreport a aftermovie z akce :)Těšíme se na vás :)Klub bude otevřen od 21:00.Vstupenky zakoupíte v síti SMSticket do 27.7. do 13:00Na místě budou vstupenky za 200 Kč.Platba u nás pouze v hotovosti.
LOCATION:Vojkovice
END:VEVENT
END:VCALENDAR