BEGIN:VCALENDAR
VERSION:2.0
CALSCALE:GREGORIAN
PRODID:-//MyApp//Calendar 1.0//EN
BEGIN:VEVENT
METHOD:PUBLISH
UID:52484@regionalniportaly.cz
DTSTAMP:20260421T232747Z
DTSTART;VALUE=DATE:20251206
DTEND;VALUE=DATE:20251207
SUMMARY:Premiéra filmu Changewyx\, hotel Kurdějov
DESCRIPTION:Celosvětová premiéra filmu Changewyx\,proběhne na více než 5.000 místech a očekáváme návštěvu více než 1.000.000 diváků.Jedním z míst premiéry\, která proběhne v českém jazyce je hotel Kurdějov.https://www.youtube.com/watch?v=Jw6Nltjq30E&nbsp\;&nbsp\;&nbsp\;&nbsp\;Animovaný americký film popisuje příběh zpěváka Davida\, který je závislý na mobilním telefonu a proto se k druhým chová škaredě. David se dostane do problémů a prosím druhé o pomoc. Diváci pomocí hlasování rozhodují zda se pomůže nebo.
LOCATION:Kurdějov
END:VEVENT
END:VCALENDAR